BEGIN:VCALENDAR
VERSION:2.0
PRODID:-//SeedHarvestTime.com - ECPv5.5.0.1//NONSGML v1.0//EN
CALSCALE:GREGORIAN
METHOD:PUBLISH
X-WR-CALNAME:SeedHarvestTime.com
X-ORIGINAL-URL:https://seedharvesttime.com
X-WR-CALDESC:Events for SeedHarvestTime.com
BEGIN:VTIMEZONE
TZID:America/New_York
BEGIN:DAYLIGHT
TZOFFSETFROM:-0500
TZOFFSETTO:-0400
TZNAME:EDT
DTSTART:20210314T070000
END:DAYLIGHT
BEGIN:STANDARD
TZOFFSETFROM:-0400
TZOFFSETTO:-0500
TZNAME:EST
DTSTART:20211107T060000
END:STANDARD
END:VTIMEZONE
BEGIN:VEVENT
DTSTART;VALUE=DATE:20210531
DTEND;VALUE=DATE:20210601
DTSTAMP:20260420T131728
CREATED:20210422T145132Z
LAST-MODIFIED:20210422T145132Z
UID:442-1622419200-1622505599@seedharvesttime.com
SUMMARY:Memorial Day
DESCRIPTION:Memorial Day \nMemorial Day
URL:https://seedharvesttime.com/event/memorial-day/
CATEGORIES:seasons
END:VEVENT
END:VCALENDAR