BEGIN:VCALENDAR
VERSION:2.0
PRODID:-//SeedHarvestTime.com - ECPv5.5.0.1//NONSGML v1.0//EN
CALSCALE:GREGORIAN
METHOD:PUBLISH
X-WR-CALNAME:SeedHarvestTime.com
X-ORIGINAL-URL:https://seedharvesttime.com
X-WR-CALDESC:Events for SeedHarvestTime.com
BEGIN:VTIMEZONE
TZID:America/New_York
BEGIN:DAYLIGHT
TZOFFSETFROM:-0500
TZOFFSETTO:-0400
TZNAME:EDT
DTSTART:20210314T070000
END:DAYLIGHT
BEGIN:STANDARD
TZOFFSETFROM:-0400
TZOFFSETTO:-0500
TZNAME:EST
DTSTART:20211107T060000
END:STANDARD
END:VTIMEZONE
BEGIN:VEVENT
DTSTART;TZID=America/New_York:20210501T100000
DTEND;TZID=America/New_York:20210501T140000
DTSTAMP:20260420T150250
CREATED:20210301T173058Z
LAST-MODIFIED:20210426T003246Z
UID:358-1619863200-1619877600@seedharvesttime.com
SUMMARY:COVID-19 Vaccine & Testing - Hemingway\, SC
DESCRIPTION:May 1\, 2021\n10 AM to 2 PM \nChavis AME Church\n2793 South State Highway 41-51\nHemingway\, SC 29554 \nDrive Thru Event! \nNo Appointment Needed!! \nPlease wear Masks! \nCall the COVID Hotline at\n 1-888-403-8677\n \n\nCOVID-19 Vaccine & Testing – Hemingway\, SC
URL:https://seedharvesttime.com/event/covid-19-vaccine-testing/
LOCATION:Chavis AME Church\, 2793 South State Highway 41-51\, Hemingway\, SC\, 29554
CATEGORIES:testing,vaccine
END:VEVENT
END:VCALENDAR