BEGIN:VCALENDAR
VERSION:2.0
PRODID:-//SeedHarvestTime.com - ECPv5.5.0.1//NONSGML v1.0//EN
CALSCALE:GREGORIAN
METHOD:PUBLISH
X-WR-CALNAME:SeedHarvestTime.com
X-ORIGINAL-URL:https://seedharvesttime.com
X-WR-CALDESC:Events for SeedHarvestTime.com
BEGIN:VTIMEZONE
TZID:America/New_York
BEGIN:DAYLIGHT
TZOFFSETFROM:-0500
TZOFFSETTO:-0400
TZNAME:EDT
DTSTART:20210314T070000
END:DAYLIGHT
BEGIN:STANDARD
TZOFFSETFROM:-0400
TZOFFSETTO:-0500
TZNAME:EST
DTSTART:20211107T060000
END:STANDARD
END:VTIMEZONE
BEGIN:VEVENT
DTSTART;TZID=America/New_York:20210731T080000
DTEND;TZID=America/New_York:20210731T150000
DTSTAMP:20260420T132019
CREATED:20210729T005749Z
LAST-MODIFIED:20210729T013524Z
UID:677-1627718400-1627743600@seedharvesttime.com
SUMMARY:COVID-19 Vaccine & Testing - Rembert\, SC
DESCRIPTION:July 31\, 2021\nHours: 8 AM to Until\n \nGreenfield Farm\n4585 Spencer Road\nRembert\, SC 29128\n \nDrive Thru Event! \nNo Appointment Needed!! \nPlease wear Masks! \nBlack Cowboy Festival\nMore Info on Festival Events \n \n \nCall the COVID Hotline at\n 1-888-403-8677\n \nCOVID-19 Vaccine & Testing – Rembert\, SC
URL:https://seedharvesttime.com/event/covid-19-vaccine-testing-rembert-sc/
LOCATION:Greenfield Farm\, 4585 Spencer Rd\, Rembert\, SC\, 29128\, United States
CATEGORIES:testing,vaccine
END:VEVENT
END:VCALENDAR